BEGIN:VCALENDAR
VERSION:2.0
PRODID:-//TED ÇORLU KOLEJİ - ECPv6.15.20//NONSGML v1.0//EN
CALSCALE:GREGORIAN
METHOD:PUBLISH
X-ORIGINAL-URL:https://www.tedcorlu.k12.tr
X-WR-CALDESC:TED ÇORLU KOLEJİ için etkinlikler
REFRESH-INTERVAL;VALUE=DURATION:PT1H
X-Robots-Tag:noindex
X-PUBLISHED-TTL:PT1H
BEGIN:VTIMEZONE
TZID:Europe/Istanbul
BEGIN:STANDARD
TZOFFSETFROM:+0300
TZOFFSETTO:+0300
TZNAME:+03
DTSTART:20240101T000000
END:STANDARD
END:VTIMEZONE
BEGIN:VEVENT
DTSTART;VALUE=DATE:20251203
DTEND;VALUE=DATE:20251204
DTSTAMP:20260419T211131
CREATED:20251223T110033Z
LAST-MODIFIED:20251223T110033Z
UID:9880-1764720000-1764806399@www.tedcorlu.k12.tr
SUMMARY:11. SINIFLAR İÇİN TEST ÇÖZME TEKNİKLERİ
DESCRIPTION:
URL:https://www.tedcorlu.k12.tr/etkinlik/11-siniflar-icin-test-cozme-teknikleri/
END:VEVENT
BEGIN:VEVENT
DTSTART;VALUE=DATE:20251203
DTEND;VALUE=DATE:20251204
DTSTAMP:20260419T211131
CREATED:20251223T110046Z
LAST-MODIFIED:20251223T110046Z
UID:9882-1764720000-1764806399@www.tedcorlu.k12.tr
SUMMARY:9. SINIFLAR İNGİLİZCE TEAM DEBATE SHOW
DESCRIPTION:
URL:https://www.tedcorlu.k12.tr/etkinlik/9-siniflar-ingilizce-team-debate-show/
END:VEVENT
END:VCALENDAR