BEGIN:VCALENDAR
VERSION:2.0
PRODID:-//TED ÇORLU KOLEJİ - ECPv6.15.20//NONSGML v1.0//EN
CALSCALE:GREGORIAN
METHOD:PUBLISH
X-ORIGINAL-URL:https://www.tedcorlu.k12.tr
X-WR-CALDESC:TED ÇORLU KOLEJİ için etkinlikler
REFRESH-INTERVAL;VALUE=DURATION:PT1H
X-Robots-Tag:noindex
X-PUBLISHED-TTL:PT1H
BEGIN:VTIMEZONE
TZID:Europe/Istanbul
BEGIN:STANDARD
TZOFFSETFROM:+0300
TZOFFSETTO:+0300
TZNAME:+03
DTSTART:20240101T000000
END:STANDARD
END:VTIMEZONE
BEGIN:VEVENT
DTSTART;VALUE=DATE:20251215
DTEND;VALUE=DATE:20251219
DTSTAMP:20260419T211014
CREATED:20251223T110735Z
LAST-MODIFIED:20251223T110735Z
UID:9896-1765756800-1766102399@www.tedcorlu.k12.tr
SUMMARY:TUTUM YATIRIM VE TÜRK MALLARI HAFTASI
DESCRIPTION:
URL:https://www.tedcorlu.k12.tr/etkinlik/tutum-yatirim-ve-turk-mallari-haftasi-4/
END:VEVENT
BEGIN:VEVENT
DTSTART;VALUE=DATE:20251218
DTEND;VALUE=DATE:20251219
DTSTAMP:20260419T211014
CREATED:20251223T111047Z
LAST-MODIFIED:20251223T111047Z
UID:9904-1766016000-1766102399@www.tedcorlu.k12.tr
SUMMARY:9.SINIFLARLA "LİSELİ OLMAK" SÖYLEŞİSİ RADYO PROGRAMI
DESCRIPTION:
URL:https://www.tedcorlu.k12.tr/etkinlik/9-siniflarla-liseli-olmak-soylesisi-radyo-programi/
END:VEVENT
END:VCALENDAR