BEGIN:VCALENDAR
VERSION:2.0
PRODID:-//TED ÇORLU KOLEJİ - ECPv6.15.20//NONSGML v1.0//EN
CALSCALE:GREGORIAN
METHOD:PUBLISH
X-ORIGINAL-URL:https://www.tedcorlu.k12.tr
X-WR-CALDESC:TED ÇORLU KOLEJİ için etkinlikler
REFRESH-INTERVAL;VALUE=DURATION:PT1H
X-Robots-Tag:noindex
X-PUBLISHED-TTL:PT1H
BEGIN:VTIMEZONE
TZID:Europe/Istanbul
BEGIN:STANDARD
TZOFFSETFROM:+0300
TZOFFSETTO:+0300
TZNAME:+03
DTSTART:20240101T000000
END:STANDARD
END:VTIMEZONE
BEGIN:VEVENT
DTSTART;VALUE=DATE:20251219
DTEND;VALUE=DATE:20251220
DTSTAMP:20260419T211016
CREATED:20251223T111118Z
LAST-MODIFIED:20251223T111118Z
UID:9906-1766102400-1766188799@www.tedcorlu.k12.tr
SUMMARY:6 VE 7.SINIFLAR İNGİLİZCE RADYO PROGRAMI
DESCRIPTION:
URL:https://www.tedcorlu.k12.tr/etkinlik/6-ve-7-siniflar-ingilizce-radyo-programi/
END:VEVENT
END:VCALENDAR