BEGIN:VCALENDAR
VERSION:2.0
PRODID:-//TED ÇORLU KOLEJİ - ECPv6.15.20//NONSGML v1.0//EN
CALSCALE:GREGORIAN
METHOD:PUBLISH
X-WR-CALNAME:TED ÇORLU KOLEJİ
X-ORIGINAL-URL:https://www.tedcorlu.k12.tr
X-WR-CALDESC:TED ÇORLU KOLEJİ için etkinlikler
REFRESH-INTERVAL;VALUE=DURATION:PT1H
X-Robots-Tag:noindex
X-PUBLISHED-TTL:PT1H
BEGIN:VTIMEZONE
TZID:Europe/Istanbul
BEGIN:STANDARD
TZOFFSETFROM:+0300
TZOFFSETTO:+0300
TZNAME:+03
DTSTART:20240101T000000
END:STANDARD
END:VTIMEZONE
BEGIN:VEVENT
DTSTART;VALUE=DATE:20251222
DTEND;VALUE=DATE:20251223
DTSTAMP:20260419T210541
CREATED:20251223T111322Z
LAST-MODIFIED:20251223T111322Z
UID:9912-1766361600-1766447999@www.tedcorlu.k12.tr
SUMMARY:TED AİDİYET ÇALIŞMASI ETKİNLİĞİ
DESCRIPTION:
URL:https://www.tedcorlu.k12.tr/etkinlik/ted-aidiyet-calismasi-etkinligi/
END:VEVENT
BEGIN:VEVENT
DTSTART;VALUE=DATE:20251222
DTEND;VALUE=DATE:20251223
DTSTAMP:20260419T210541
CREATED:20251223T111334Z
LAST-MODIFIED:20251223T111334Z
UID:9914-1766361600-1766447999@www.tedcorlu.k12.tr
SUMMARY:İNGİLİZCE MOVIE DAY
DESCRIPTION:
URL:https://www.tedcorlu.k12.tr/etkinlik/ingilizce-movie-day/
END:VEVENT
END:VCALENDAR