BEGIN:VCALENDAR
VERSION:2.0
PRODID:-//TED ÇORLU KOLEJİ - ECPv6.15.20//NONSGML v1.0//EN
CALSCALE:GREGORIAN
METHOD:PUBLISH
X-ORIGINAL-URL:https://www.tedcorlu.k12.tr
X-WR-CALDESC:TED ÇORLU KOLEJİ için etkinlikler
REFRESH-INTERVAL;VALUE=DURATION:PT1H
X-Robots-Tag:noindex
X-PUBLISHED-TTL:PT1H
BEGIN:VTIMEZONE
TZID:Europe/Istanbul
BEGIN:STANDARD
TZOFFSETFROM:+0300
TZOFFSETTO:+0300
TZNAME:+03
DTSTART:20240101T000000
END:STANDARD
END:VTIMEZONE
BEGIN:VEVENT
DTSTART;VALUE=DATE:20251229
DTEND;VALUE=DATE:20251230
DTSTAMP:20260419T193628
CREATED:20251223T111611Z
LAST-MODIFIED:20251223T111611Z
UID:9928-1766966400-1767052799@www.tedcorlu.k12.tr
SUMMARY:WINTERFEST
DESCRIPTION:
URL:https://www.tedcorlu.k12.tr/etkinlik/winterfest/
END:VEVENT
BEGIN:VEVENT
DTSTART;VALUE=DATE:20251229
DTEND;VALUE=DATE:20251230
DTSTAMP:20260419T193628
CREATED:20251223T111624Z
LAST-MODIFIED:20251223T111624Z
UID:9930-1766966400-1767052799@www.tedcorlu.k12.tr
SUMMARY:2.SINIFLAR MUTFAK ATÖLYESİ ETKİNLİĞİ
DESCRIPTION:
URL:https://www.tedcorlu.k12.tr/etkinlik/2-siniflar-mutfak-atolyesi-etkinligi/
END:VEVENT
BEGIN:VEVENT
DTSTART;VALUE=DATE:20251229
DTEND;VALUE=DATE:20251230
DTSTAMP:20260419T193628
CREATED:20251223T111644Z
LAST-MODIFIED:20251223T111644Z
UID:9932-1766966400-1767052799@www.tedcorlu.k12.tr
SUMMARY:6 ve 7.SINIFLAR YILBAŞI ETKİNLİĞİ
DESCRIPTION:
URL:https://www.tedcorlu.k12.tr/etkinlik/6-ve-7-siniflar-yilbasi-etkinligi/
END:VEVENT
END:VCALENDAR