BEGIN:VCALENDAR
VERSION:2.0
PRODID:-//TED ÇORLU KOLEJİ - ECPv6.15.20//NONSGML v1.0//EN
CALSCALE:GREGORIAN
METHOD:PUBLISH
X-ORIGINAL-URL:https://www.tedcorlu.k12.tr
X-WR-CALDESC:TED ÇORLU KOLEJİ için etkinlikler
REFRESH-INTERVAL;VALUE=DURATION:PT1H
X-Robots-Tag:noindex
X-PUBLISHED-TTL:PT1H
BEGIN:VTIMEZONE
TZID:Europe/Istanbul
BEGIN:STANDARD
TZOFFSETFROM:+0300
TZOFFSETTO:+0300
TZNAME:+03
DTSTART:20240101T000000
END:STANDARD
END:VTIMEZONE
BEGIN:VEVENT
DTSTART;VALUE=DATE:20251230
DTEND;VALUE=DATE:20251231
DTSTAMP:20260419T193721
CREATED:20251223T111656Z
LAST-MODIFIED:20251223T111656Z
UID:9934-1767052800-1767139199@www.tedcorlu.k12.tr
SUMMARY:8.SINIF YILBAŞI ETKİNLİĞİ
DESCRIPTION:
URL:https://www.tedcorlu.k12.tr/etkinlik/8-sinif-yilbasi-etkinligi/
END:VEVENT
END:VCALENDAR