BEGIN:VCALENDAR
VERSION:2.0
PRODID:-//TED ÇORLU KOLEJİ - ECPv6.15.20//NONSGML v1.0//EN
CALSCALE:GREGORIAN
METHOD:PUBLISH
X-WR-CALNAME:TED ÇORLU KOLEJİ
X-ORIGINAL-URL:https://www.tedcorlu.k12.tr
X-WR-CALDESC:TED ÇORLU KOLEJİ için etkinlikler
REFRESH-INTERVAL;VALUE=DURATION:PT1H
X-Robots-Tag:noindex
X-PUBLISHED-TTL:PT1H
BEGIN:VTIMEZONE
TZID:Europe/Istanbul
BEGIN:STANDARD
TZOFFSETFROM:+0300
TZOFFSETTO:+0300
TZNAME:+03
DTSTART:20240101T000000
END:STANDARD
END:VTIMEZONE
BEGIN:VEVENT
DTSTART;VALUE=DATE:20251231
DTEND;VALUE=DATE:20260101
DTSTAMP:20260419T193456
CREATED:20251223T111714Z
LAST-MODIFIED:20251223T111714Z
UID:9936-1767139200-1767225599@www.tedcorlu.k12.tr
SUMMARY:YENİ YIL KIŞ DEKOR VE SERGİSİ
DESCRIPTION:
URL:https://www.tedcorlu.k12.tr/etkinlik/yeni-yil-kis-dekor-ve-sergisi/
END:VEVENT
BEGIN:VEVENT
DTSTART;VALUE=DATE:20251231
DTEND;VALUE=DATE:20260101
DTSTAMP:20260419T193456
CREATED:20251223T111727Z
LAST-MODIFIED:20251223T111727Z
UID:9938-1767139200-1767225599@www.tedcorlu.k12.tr
SUMMARY:WINTER PARTY-İNGİLİZCE ZÜMRESİ
DESCRIPTION:
URL:https://www.tedcorlu.k12.tr/etkinlik/winter-party-ingilizce-zumresi/
END:VEVENT
END:VCALENDAR