BEGIN:VCALENDAR
VERSION:2.0
PRODID:-//TED ÇORLU KOLEJİ - ECPv6.15.20//NONSGML v1.0//EN
CALSCALE:GREGORIAN
METHOD:PUBLISH
X-ORIGINAL-URL:https://www.tedcorlu.k12.tr
X-WR-CALDESC:TED ÇORLU KOLEJİ için etkinlikler
REFRESH-INTERVAL;VALUE=DURATION:PT1H
X-Robots-Tag:noindex
X-PUBLISHED-TTL:PT1H
BEGIN:VTIMEZONE
TZID:Europe/Istanbul
BEGIN:STANDARD
TZOFFSETFROM:+0300
TZOFFSETTO:+0300
TZNAME:+03
DTSTART:20250101T000000
END:STANDARD
END:VTIMEZONE
BEGIN:VEVENT
DTSTART;VALUE=DATE:20260107
DTEND;VALUE=DATE:20260108
DTSTAMP:20260419T193454
CREATED:20251223T112051Z
LAST-MODIFIED:20251223T112051Z
UID:9944-1767744000-1767830399@www.tedcorlu.k12.tr
SUMMARY:PDR VELİ SEMİNERİ
DESCRIPTION:
URL:https://www.tedcorlu.k12.tr/etkinlik/pdr-veli-semineri/
END:VEVENT
END:VCALENDAR