BEGIN:VCALENDAR
VERSION:2.0
PRODID:-//TED ÇORLU KOLEJİ - ECPv6.15.20//NONSGML v1.0//EN
CALSCALE:GREGORIAN
METHOD:PUBLISH
X-WR-CALNAME:TED ÇORLU KOLEJİ
X-ORIGINAL-URL:https://www.tedcorlu.k12.tr
X-WR-CALDESC:TED ÇORLU KOLEJİ için etkinlikler
REFRESH-INTERVAL;VALUE=DURATION:PT1H
X-Robots-Tag:noindex
X-PUBLISHED-TTL:PT1H
BEGIN:VTIMEZONE
TZID:Europe/Istanbul
BEGIN:STANDARD
TZOFFSETFROM:+0300
TZOFFSETTO:+0300
TZNAME:+03
DTSTART:20250101T000000
END:STANDARD
END:VTIMEZONE
BEGIN:VEVENT
DTSTART;VALUE=DATE:20260113
DTEND;VALUE=DATE:20260115
DTSTAMP:20260419T205814
CREATED:20251223T112212Z
LAST-MODIFIED:20251223T112212Z
UID:9948-1768262400-1768435199@www.tedcorlu.k12.tr
SUMMARY:2. SINIFLAR AÇIK SINIF ETKİNLİĞİ
DESCRIPTION:
URL:https://www.tedcorlu.k12.tr/etkinlik/2-siniflar-acik-sinif-etkinligi-3/
END:VEVENT
BEGIN:VEVENT
DTSTART;VALUE=DATE:20260114
DTEND;VALUE=DATE:20260115
DTSTAMP:20260419T205814
CREATED:20251223T112244Z
LAST-MODIFIED:20251223T112244Z
UID:9950-1768348800-1768435199@www.tedcorlu.k12.tr
SUMMARY:KÖY OKULU DENEY PROJESİ
DESCRIPTION:
URL:https://www.tedcorlu.k12.tr/etkinlik/koy-okulu-deney-projesi/
END:VEVENT
END:VCALENDAR