BEGIN:VCALENDAR
VERSION:2.0
PRODID:-//TED ÇORLU KOLEJİ - ECPv6.15.20//NONSGML v1.0//EN
CALSCALE:GREGORIAN
METHOD:PUBLISH
X-ORIGINAL-URL:https://www.tedcorlu.k12.tr
X-WR-CALDESC:TED ÇORLU KOLEJİ için etkinlikler
REFRESH-INTERVAL;VALUE=DURATION:PT1H
X-Robots-Tag:noindex
X-PUBLISHED-TTL:PT1H
BEGIN:VTIMEZONE
TZID:Europe/Istanbul
BEGIN:STANDARD
TZOFFSETFROM:+0300
TZOFFSETTO:+0300
TZNAME:+03
DTSTART:20240101T000000
END:STANDARD
END:VTIMEZONE
BEGIN:VEVENT
DTSTART;VALUE=DATE:20251202
DTEND;VALUE=DATE:20251203
DTSTAMP:20260419T193856
CREATED:20251223T105921Z
LAST-MODIFIED:20251223T105921Z
UID:9878-1764633600-1764719999@www.tedcorlu.k12.tr
SUMMARY:11. SINIFLAR İNGİLİZCE TEAM DEBATE SHOW
DESCRIPTION:
URL:https://www.tedcorlu.k12.tr/etkinlik/11-siniflar-ingilizce-team-debate-show/
END:VEVENT
BEGIN:VEVENT
DTSTART;VALUE=DATE:20251203
DTEND;VALUE=DATE:20251204
DTSTAMP:20260419T193856
CREATED:20251223T110033Z
LAST-MODIFIED:20251223T110033Z
UID:9880-1764720000-1764806399@www.tedcorlu.k12.tr
SUMMARY:11. SINIFLAR İÇİN TEST ÇÖZME TEKNİKLERİ
DESCRIPTION:
URL:https://www.tedcorlu.k12.tr/etkinlik/11-siniflar-icin-test-cozme-teknikleri/
END:VEVENT
BEGIN:VEVENT
DTSTART;VALUE=DATE:20251203
DTEND;VALUE=DATE:20251204
DTSTAMP:20260419T193856
CREATED:20251223T110046Z
LAST-MODIFIED:20251223T110046Z
UID:9882-1764720000-1764806399@www.tedcorlu.k12.tr
SUMMARY:9. SINIFLAR İNGİLİZCE TEAM DEBATE SHOW
DESCRIPTION:
URL:https://www.tedcorlu.k12.tr/etkinlik/9-siniflar-ingilizce-team-debate-show/
END:VEVENT
BEGIN:VEVENT
DTSTART;VALUE=DATE:20251204
DTEND;VALUE=DATE:20251205
DTSTAMP:20260419T193856
CREATED:20251223T110059Z
LAST-MODIFIED:20251223T110059Z
UID:9884-1764806400-1764892799@www.tedcorlu.k12.tr
SUMMARY:10. SINIFLAR İNGİLİZCE TEAM DEBATE SHOW
DESCRIPTION:
URL:https://www.tedcorlu.k12.tr/etkinlik/10-siniflar-ingilizce-team-debate-show/
END:VEVENT
BEGIN:VEVENT
DTSTART;VALUE=DATE:20251205
DTEND;VALUE=DATE:20251206
DTSTAMP:20260419T193856
CREATED:20251223T110114Z
LAST-MODIFIED:20251223T110114Z
UID:9886-1764892800-1764979199@www.tedcorlu.k12.tr
SUMMARY:7.SINIF MÜNAZARA YARIŞMASI
DESCRIPTION:
URL:https://www.tedcorlu.k12.tr/etkinlik/7-sinif-munazara-yarismasi-3/
END:VEVENT
BEGIN:VEVENT
DTSTART;VALUE=DATE:20251210
DTEND;VALUE=DATE:20251211
DTSTAMP:20260419T193856
CREATED:20251223T110433Z
LAST-MODIFIED:20251223T110433Z
UID:9888-1765324800-1765411199@www.tedcorlu.k12.tr
SUMMARY:YONHIRONI MORIWAKI İLE ÖĞRENCİ VELİ DEPREM SÖYLEŞİSİ
DESCRIPTION:
URL:https://www.tedcorlu.k12.tr/etkinlik/yonhironi-moriwaki-ile-ogrenci-veli-deprem-soylesisi/
END:VEVENT
BEGIN:VEVENT
DTSTART;VALUE=DATE:20251210
DTEND;VALUE=DATE:20251211
DTSTAMP:20260419T193856
CREATED:20251223T110536Z
LAST-MODIFIED:20251223T110536Z
UID:9890-1765324800-1765411199@www.tedcorlu.k12.tr
SUMMARY:DEUTSCHER TAG
DESCRIPTION:
URL:https://www.tedcorlu.k12.tr/etkinlik/deutscher-tag-2/
END:VEVENT
BEGIN:VEVENT
DTSTART;VALUE=DATE:20251211
DTEND;VALUE=DATE:20251212
DTSTAMP:20260419T193856
CREATED:20251223T110604Z
LAST-MODIFIED:20251223T110604Z
UID:9892-1765411200-1765497599@www.tedcorlu.k12.tr
SUMMARY:9 VE 10. SINIF AKVARYUM GEZİSİ
DESCRIPTION:
URL:https://www.tedcorlu.k12.tr/etkinlik/9-ve-10-sinif-akvaryum-gezisi/
END:VEVENT
BEGIN:VEVENT
DTSTART;VALUE=DATE:20251213
DTEND;VALUE=DATE:20251214
DTSTAMP:20260419T193856
CREATED:20251223T110713Z
LAST-MODIFIED:20251223T110713Z
UID:9894-1765584000-1765670399@www.tedcorlu.k12.tr
SUMMARY:PDR ZİRVESİ
DESCRIPTION:
URL:https://www.tedcorlu.k12.tr/etkinlik/pdr-zirvesi/
END:VEVENT
BEGIN:VEVENT
DTSTART;VALUE=DATE:20251215
DTEND;VALUE=DATE:20251216
DTSTAMP:20260419T193856
CREATED:20251223T110946Z
LAST-MODIFIED:20251223T110946Z
UID:9898-1765756800-1765843199@www.tedcorlu.k12.tr
SUMMARY:FİNANASAL OKUR YAZARLIK KAPSAMINDA ETKİNLİKLER
DESCRIPTION:
URL:https://www.tedcorlu.k12.tr/etkinlik/finanasal-okur-yazarlik-kapsaminda-etkinlikler/
END:VEVENT
BEGIN:VEVENT
DTSTART;VALUE=DATE:20251215
DTEND;VALUE=DATE:20251219
DTSTAMP:20260419T193856
CREATED:20251223T110735Z
LAST-MODIFIED:20251223T110735Z
UID:9896-1765756800-1766102399@www.tedcorlu.k12.tr
SUMMARY:TUTUM YATIRIM VE TÜRK MALLARI HAFTASI
DESCRIPTION:
URL:https://www.tedcorlu.k12.tr/etkinlik/tutum-yatirim-ve-turk-mallari-haftasi-4/
END:VEVENT
BEGIN:VEVENT
DTSTART;VALUE=DATE:20251216
DTEND;VALUE=DATE:20251217
DTSTAMP:20260419T193856
CREATED:20251223T111001Z
LAST-MODIFIED:20251223T111001Z
UID:9900-1765843200-1765929599@www.tedcorlu.k12.tr
SUMMARY:"TÜRKİYE'YE ÖZGÜ" SERGİSİ
DESCRIPTION:
URL:https://www.tedcorlu.k12.tr/etkinlik/turkiyeye-ozgu-sergisi/
END:VEVENT
BEGIN:VEVENT
DTSTART;VALUE=DATE:20251217
DTEND;VALUE=DATE:20251218
DTSTAMP:20260419T193856
CREATED:20251223T111016Z
LAST-MODIFIED:20251223T111016Z
UID:9902-1765929600-1766015999@www.tedcorlu.k12.tr
SUMMARY:7.SINIF KİTAP CANLANDIRMA ETKİNLİĞİ
DESCRIPTION:
URL:https://www.tedcorlu.k12.tr/etkinlik/7-sinif-kitap-canlandirma-etkinligi/
END:VEVENT
BEGIN:VEVENT
DTSTART;VALUE=DATE:20251218
DTEND;VALUE=DATE:20251219
DTSTAMP:20260419T193856
CREATED:20251223T111047Z
LAST-MODIFIED:20251223T111047Z
UID:9904-1766016000-1766102399@www.tedcorlu.k12.tr
SUMMARY:9.SINIFLARLA "LİSELİ OLMAK" SÖYLEŞİSİ RADYO PROGRAMI
DESCRIPTION:
URL:https://www.tedcorlu.k12.tr/etkinlik/9-siniflarla-liseli-olmak-soylesisi-radyo-programi/
END:VEVENT
BEGIN:VEVENT
DTSTART;VALUE=DATE:20251219
DTEND;VALUE=DATE:20251220
DTSTAMP:20260419T193856
CREATED:20251223T111118Z
LAST-MODIFIED:20251223T111118Z
UID:9906-1766102400-1766188799@www.tedcorlu.k12.tr
SUMMARY:6 VE 7.SINIFLAR İNGİLİZCE RADYO PROGRAMI
DESCRIPTION:
URL:https://www.tedcorlu.k12.tr/etkinlik/6-ve-7-siniflar-ingilizce-radyo-programi/
END:VEVENT
BEGIN:VEVENT
DTSTART;VALUE=DATE:20251220
DTEND;VALUE=DATE:20251222
DTSTAMP:20260419T193856
CREATED:20251223T111231Z
LAST-MODIFIED:20251223T111231Z
UID:9908-1766188800-1766361599@www.tedcorlu.k12.tr
SUMMARY:WSC ESKİŞEHİR REGIONAL ROUND
DESCRIPTION:
URL:https://www.tedcorlu.k12.tr/etkinlik/wsc-eskisehir-regional-round/
END:VEVENT
BEGIN:VEVENT
DTSTART;VALUE=DATE:20251221
DTEND;VALUE=DATE:20251222
DTSTAMP:20260419T193856
CREATED:20251223T111249Z
LAST-MODIFIED:20251223T111249Z
UID:9910-1766275200-1766361599@www.tedcorlu.k12.tr
SUMMARY:EN UZUN GECE PİJAMA PARTİSİ
DESCRIPTION:
URL:https://www.tedcorlu.k12.tr/etkinlik/en-uzun-gece-pijama-partisi-3/
END:VEVENT
BEGIN:VEVENT
DTSTART;VALUE=DATE:20251222
DTEND;VALUE=DATE:20251223
DTSTAMP:20260419T193856
CREATED:20251223T111322Z
LAST-MODIFIED:20251223T111322Z
UID:9912-1766361600-1766447999@www.tedcorlu.k12.tr
SUMMARY:TED AİDİYET ÇALIŞMASI ETKİNLİĞİ
DESCRIPTION:
URL:https://www.tedcorlu.k12.tr/etkinlik/ted-aidiyet-calismasi-etkinligi/
END:VEVENT
BEGIN:VEVENT
DTSTART;VALUE=DATE:20251222
DTEND;VALUE=DATE:20251223
DTSTAMP:20260419T193856
CREATED:20251223T111334Z
LAST-MODIFIED:20251223T111334Z
UID:9914-1766361600-1766447999@www.tedcorlu.k12.tr
SUMMARY:İNGİLİZCE MOVIE DAY
DESCRIPTION:
URL:https://www.tedcorlu.k12.tr/etkinlik/ingilizce-movie-day/
END:VEVENT
BEGIN:VEVENT
DTSTART;VALUE=DATE:20251223
DTEND;VALUE=DATE:20251224
DTSTAMP:20260419T193856
CREATED:20251223T111417Z
LAST-MODIFIED:20251223T111417Z
UID:9918-1766448000-1766534399@www.tedcorlu.k12.tr
SUMMARY:''BIG VOICES FOR LITTLE ONES''  6 VE 7.SINIFLAR İNGİLİZCE SOSYAL SORUMLULUK PROJESİ
DESCRIPTION:
URL:https://www.tedcorlu.k12.tr/etkinlik/big-voices-for-little-ones-6-ve-7-siniflar-ingilizce-sosyal-sorumluluk-projesi/
END:VEVENT
BEGIN:VEVENT
DTSTART;VALUE=DATE:20251223
DTEND;VALUE=DATE:20251225
DTSTAMP:20260419T193856
CREATED:20251223T111346Z
LAST-MODIFIED:20251223T111346Z
UID:9916-1766448000-1766620799@www.tedcorlu.k12.tr
SUMMARY:3. SINIFLAR AÇIK SINIF ETKİNLİĞİ
DESCRIPTION:
URL:https://www.tedcorlu.k12.tr/etkinlik/3-siniflar-acik-sinif-etkinligi/
END:VEVENT
BEGIN:VEVENT
DTSTART;VALUE=DATE:20251224
DTEND;VALUE=DATE:20251225
DTSTAMP:20260419T193856
CREATED:20251223T111431Z
LAST-MODIFIED:20251223T111431Z
UID:9920-1766534400-1766620799@www.tedcorlu.k12.tr
SUMMARY:PARAŞÜT YARIŞMASI
DESCRIPTION:
URL:https://www.tedcorlu.k12.tr/etkinlik/parasut-yarismasi-2/
END:VEVENT
BEGIN:VEVENT
DTSTART;VALUE=DATE:20251225
DTEND;VALUE=DATE:20251226
DTSTAMP:20260419T193856
CREATED:20251223T111452Z
LAST-MODIFIED:20251223T111452Z
UID:9922-1766620800-1766707199@www.tedcorlu.k12.tr
SUMMARY:İSTANBUL ÜNİVERSİTE GEZİSİ
DESCRIPTION:
URL:https://www.tedcorlu.k12.tr/etkinlik/istanbul-universite-gezisi/
END:VEVENT
BEGIN:VEVENT
DTSTART;VALUE=DATE:20251226
DTEND;VALUE=DATE:20251227
DTSTAMP:20260419T193856
CREATED:20251223T111511Z
LAST-MODIFIED:20251223T111511Z
UID:9924-1766707200-1766793599@www.tedcorlu.k12.tr
SUMMARY:YILBAŞI PİJAMA PARTİSİ
DESCRIPTION:
URL:https://www.tedcorlu.k12.tr/etkinlik/yilbasi-pijama-partisi/
END:VEVENT
BEGIN:VEVENT
DTSTART;VALUE=DATE:20251227
DTEND;VALUE=DATE:20251229
DTSTAMP:20260419T193856
CREATED:20251223T111544Z
LAST-MODIFIED:20251223T111544Z
UID:9926-1766793600-1766966399@www.tedcorlu.k12.tr
SUMMARY:SATRANÇ TURNUVASI
DESCRIPTION:
URL:https://www.tedcorlu.k12.tr/etkinlik/satranc-turnuvasi-3/
END:VEVENT
BEGIN:VEVENT
DTSTART;VALUE=DATE:20251229
DTEND;VALUE=DATE:20251230
DTSTAMP:20260419T193856
CREATED:20251223T111611Z
LAST-MODIFIED:20251223T111611Z
UID:9928-1766966400-1767052799@www.tedcorlu.k12.tr
SUMMARY:WINTERFEST
DESCRIPTION:
URL:https://www.tedcorlu.k12.tr/etkinlik/winterfest/
END:VEVENT
BEGIN:VEVENT
DTSTART;VALUE=DATE:20251229
DTEND;VALUE=DATE:20251230
DTSTAMP:20260419T193856
CREATED:20251223T111624Z
LAST-MODIFIED:20251223T111624Z
UID:9930-1766966400-1767052799@www.tedcorlu.k12.tr
SUMMARY:2.SINIFLAR MUTFAK ATÖLYESİ ETKİNLİĞİ
DESCRIPTION:
URL:https://www.tedcorlu.k12.tr/etkinlik/2-siniflar-mutfak-atolyesi-etkinligi/
END:VEVENT
BEGIN:VEVENT
DTSTART;VALUE=DATE:20251229
DTEND;VALUE=DATE:20251230
DTSTAMP:20260419T193856
CREATED:20251223T111644Z
LAST-MODIFIED:20251223T111644Z
UID:9932-1766966400-1767052799@www.tedcorlu.k12.tr
SUMMARY:6 ve 7.SINIFLAR YILBAŞI ETKİNLİĞİ
DESCRIPTION:
URL:https://www.tedcorlu.k12.tr/etkinlik/6-ve-7-siniflar-yilbasi-etkinligi/
END:VEVENT
BEGIN:VEVENT
DTSTART;VALUE=DATE:20251230
DTEND;VALUE=DATE:20251231
DTSTAMP:20260419T193856
CREATED:20251223T111656Z
LAST-MODIFIED:20251223T111656Z
UID:9934-1767052800-1767139199@www.tedcorlu.k12.tr
SUMMARY:8.SINIF YILBAŞI ETKİNLİĞİ
DESCRIPTION:
URL:https://www.tedcorlu.k12.tr/etkinlik/8-sinif-yilbasi-etkinligi/
END:VEVENT
BEGIN:VEVENT
DTSTART;VALUE=DATE:20251231
DTEND;VALUE=DATE:20260101
DTSTAMP:20260419T193856
CREATED:20251223T111714Z
LAST-MODIFIED:20251223T111714Z
UID:9936-1767139200-1767225599@www.tedcorlu.k12.tr
SUMMARY:YENİ YIL KIŞ DEKOR VE SERGİSİ
DESCRIPTION:
URL:https://www.tedcorlu.k12.tr/etkinlik/yeni-yil-kis-dekor-ve-sergisi/
END:VEVENT
END:VCALENDAR